BEGIN:VCALENDAR
VERSION:2.0
PRODID:-//West Granville Presbyterian Church - ECPv6.15.20//NONSGML v1.0//EN
CALSCALE:GREGORIAN
METHOD:PUBLISH
X-WR-CALNAME:West Granville Presbyterian Church
X-ORIGINAL-URL:https://www.westgranville.org
X-WR-CALDESC:Events for West Granville Presbyterian Church
REFRESH-INTERVAL;VALUE=DURATION:PT1H
X-Robots-Tag:noindex
X-PUBLISHED-TTL:PT1H
BEGIN:VTIMEZONE
TZID:America/Chicago
BEGIN:DAYLIGHT
TZOFFSETFROM:-0600
TZOFFSETTO:-0500
TZNAME:CDT
DTSTART:20250309T080000
END:DAYLIGHT
BEGIN:STANDARD
TZOFFSETFROM:-0500
TZOFFSETTO:-0600
TZNAME:CST
DTSTART:20251102T070000
END:STANDARD
BEGIN:DAYLIGHT
TZOFFSETFROM:-0600
TZOFFSETTO:-0500
TZNAME:CDT
DTSTART:20260308T080000
END:DAYLIGHT
BEGIN:STANDARD
TZOFFSETFROM:-0500
TZOFFSETTO:-0600
TZNAME:CST
DTSTART:20261101T070000
END:STANDARD
BEGIN:DAYLIGHT
TZOFFSETFROM:-0600
TZOFFSETTO:-0500
TZNAME:CDT
DTSTART:20270314T080000
END:DAYLIGHT
BEGIN:STANDARD
TZOFFSETFROM:-0500
TZOFFSETTO:-0600
TZNAME:CST
DTSTART:20271107T070000
END:STANDARD
END:VTIMEZONE
BEGIN:VEVENT
DTSTART;TZID=America/Chicago:20260425T093000
DTEND;TZID=America/Chicago:20260425T130000
DTSTAMP:20260423T160118
CREATED:20210618T144518Z
LAST-MODIFIED:20260331T144915Z
UID:1405-1777109400-1777122000@www.westgranville.org
SUMMARY:Open Circle Event
DESCRIPTION:Blanket Making\, Blessing Bags and Salad Luncheon  \n\n\n\n\n\nAll ladies of the church are invited to join Open Circle for a morning of making tied fleece blankets that will be donated.  No special craft or experience sewing needed.  Bring a pair of sharp scissors if you have them.  All supplies will be provided. We will also be assembling Blessing Bags. \n\n\n\n Masks are optional  \n\n\n\nLive Stream the service\, if unable to attend in person. Stream will open 10 minutes before the start of the service. \n\n\n\nLive Stream Link=”https://www.youtube.com/channel/UCq94r4FOEOUO3Np0GQttUKw/featured“
URL:https://www.westgranville.org/event/sunday-worship/
END:VEVENT
END:VCALENDAR